BEGIN:VCALENDAR
VERSION:2.0
PRODID:-//Provecho Collective - ECPv6.15.17.1//NONSGML v1.0//EN
CALSCALE:GREGORIAN
METHOD:PUBLISH
X-ORIGINAL-URL:https://provechocollective.org
X-WR-CALDESC:Eventos para Provecho Collective
REFRESH-INTERVAL;VALUE=DURATION:PT1H
X-Robots-Tag:noindex
X-PUBLISHED-TTL:PT1H
BEGIN:VTIMEZONE
TZID:America/Denver
BEGIN:DAYLIGHT
TZOFFSETFROM:-0700
TZOFFSETTO:-0600
TZNAME:MDT
DTSTART:20250309T090000
END:DAYLIGHT
BEGIN:STANDARD
TZOFFSETFROM:-0600
TZOFFSETTO:-0700
TZNAME:MST
DTSTART:20251102T080000
END:STANDARD
BEGIN:DAYLIGHT
TZOFFSETFROM:-0700
TZOFFSETTO:-0600
TZNAME:MDT
DTSTART:20260308T090000
END:DAYLIGHT
BEGIN:STANDARD
TZOFFSETFROM:-0600
TZOFFSETTO:-0700
TZNAME:MST
DTSTART:20261101T080000
END:STANDARD
BEGIN:DAYLIGHT
TZOFFSETFROM:-0700
TZOFFSETTO:-0600
TZNAME:MDT
DTSTART:20270314T090000
END:DAYLIGHT
BEGIN:STANDARD
TZOFFSETFROM:-0600
TZOFFSETTO:-0700
TZNAME:MST
DTSTART:20271107T080000
END:STANDARD
END:VTIMEZONE
BEGIN:VEVENT
DTSTART;TZID=America/Denver:20260811T120000
DTEND;TZID=America/Denver:20260811T131500
DTSTAMP:20260419T085422
CREATED:20260409T182808Z
LAST-MODIFIED:20260409T182809Z
UID:10003021-1786449600-1786454100@provechocollective.org
SUMMARY:Comité de Políticas
DESCRIPTION:Cuándo: Bi-weekly on Tuesdays\, 12–1:15 p.m. MST (vía Zoom)\nQuien: Open to all; no prior policy experience needed\nRepresentante del Personal: Brace Gibson\, Directora de Políticas \nPropósito: \n\nCada dos semanas\, facilitamos y mantenemos un grupo de líderes de base\, defensores\, organizaciones de abogacía\, entidades estatales y socios que están trabajando para abordar el hambre y sus causas fundamentales a través de la reforma y abogacía de la política alimentaria. \n¿Por qué unirse?\n\nAyúdenos a crear\, ejecutar y administrar una plataforma de políticas contra el hambre que abogue por sistemas alimentarios sostenibles\, equitativos y efectivos a nivel estatal y federal\, enfocado en la equidad y las prioridades de las comunidades e individuos afectados por el hambre. \n  \nÚnase al comité
URL:https://provechocollective.org/event/comite-de-politicas-12-16-2/2026-08-11/
CATEGORIES:Junta
END:VEVENT
BEGIN:VEVENT
DTSTART;TZID=America/Denver:20260813T100000
DTEND;TZID=America/Denver:20260813T110000
DTSTAMP:20260419T085422
CREATED:20260409T184611Z
LAST-MODIFIED:20260409T184611Z
UID:10003406-1786615200-1786618800@provechocollective.org
SUMMARY:Comité de Comunicaciones y Accesibilidad
DESCRIPTION:Cuándo: Cada mes en el segundo jueves de 10 – 11 a.m. MST (vía Zoom)\nQuien: Disponible para cualquiera que esté interesado\nRepresentante del Personal: Jamie Petrie\, Gerente de Comunicaciones \nPropósito:\nJuntos\, apoyar a las organizaciones con comunicaciones más inclusivas y accesibles que puedan promover los alimentos para todos en Colorado. \n¿Por qué unirse?\nUsted puede ayudar a animar a las organizaciones y agencias gubernamentales de Colorado a: \n\nBuscar la opinión de la comunidad durante el desarrollo y la redacción de mensajes\, materiales y campañas;\nPromover la transparencia y mejorar las comunicaciones;\nConsiderar la accesibilidad para todos\, incluyendo pero no limitado a la justicia lingüística\, la elección de palabras\, las comunicaciones visuales\, las barreras físicas\, los factores geográficos\, y los problemas de acceso. y más.\n\nÚNETE AL COMITÉ
URL:https://provechocollective.org/event/comite-de-comunicaciones-y-accesibilidad-2/2026-08-13/
CATEGORIES:Junta
END:VEVENT
BEGIN:VEVENT
DTSTART;TZID=America/Denver:20260819T140000
DTEND;TZID=America/Denver:20260819T153000
DTSTAMP:20260419T085422
CREATED:20260409T182248Z
LAST-MODIFIED:20260409T182248Z
UID:10002972-1787148000-1787153400@provechocollective.org
SUMMARY:Comité de Datos y Evaluación
DESCRIPTION:Cuándo: El 3er miércoles de cada mes de 2–3:30 p.m. MST (vía Zoom)\nQuien: Open to anyone interested in food system data and collaboration\nRepresentante del Personal: Kasey Neiss\, Analista de Datos y Evaluación \nPropósito:\n\nJuntos\, apoyar el crecimiento y desarrollo del sistema alimentario de Colorado haciendo que los datos relevantes sean más accesibles y fáciles de utilizar. \n¿Por qué unirse? \n\nUnir socios que valoran los datos inclusivos\, promueven el intercambio de recursos y practican la equidad de datos. Al conectar esfuerzos de datos en todo el sistema alimentario de Colorado\, podemos apoyar la toma de decisiones informadas y la colaboración entre organizaciones y comunidades. (Más sobre nuestro marco del comité.) \n\n¡Se anima a las personas del grupo a compartir sus proyectos\, hacer preguntas\, hacer conexiones y colaborar en proyectos! \n  \nÚnase al comité
URL:https://provechocollective.org/event/comite-de-datos-y-evaluacion-12-17-2-2/2026-08-19/
CATEGORIES:Junta
END:VEVENT
BEGIN:VEVENT
DTSTART;TZID=America/Denver:20260825T120000
DTEND;TZID=America/Denver:20260825T131500
DTSTAMP:20260419T085422
CREATED:20260409T182808Z
LAST-MODIFIED:20260409T182809Z
UID:10003022-1787659200-1787663700@provechocollective.org
SUMMARY:Comité de Políticas
DESCRIPTION:Cuándo: Bi-weekly on Tuesdays\, 12–1:15 p.m. MST (vía Zoom)\nQuien: Open to all; no prior policy experience needed\nRepresentante del Personal: Brace Gibson\, Directora de Políticas \nPropósito: \n\nCada dos semanas\, facilitamos y mantenemos un grupo de líderes de base\, defensores\, organizaciones de abogacía\, entidades estatales y socios que están trabajando para abordar el hambre y sus causas fundamentales a través de la reforma y abogacía de la política alimentaria. \n¿Por qué unirse?\n\nAyúdenos a crear\, ejecutar y administrar una plataforma de políticas contra el hambre que abogue por sistemas alimentarios sostenibles\, equitativos y efectivos a nivel estatal y federal\, enfocado en la equidad y las prioridades de las comunidades e individuos afectados por el hambre. \n  \nÚnase al comité
URL:https://provechocollective.org/event/comite-de-politicas-12-16-2/2026-08-25/
CATEGORIES:Junta
END:VEVENT
END:VCALENDAR